BEGIN:VCALENDAR
VERSION:2.0
PRODID:-//MSC Bernstein - ECPv6.15.20//NONSGML v1.0//EN
CALSCALE:GREGORIAN
METHOD:PUBLISH
X-WR-CALNAME:MSC Bernstein
X-ORIGINAL-URL:http://www.mscbernstein.de
X-WR-CALDESC:Veranstaltungen für MSC Bernstein
REFRESH-INTERVAL;VALUE=DURATION:PT1H
X-Robots-Tag:noindex
X-PUBLISHED-TTL:PT1H
BEGIN:VTIMEZONE
TZID:Europe/Berlin
BEGIN:DAYLIGHT
TZOFFSETFROM:+0100
TZOFFSETTO:+0200
TZNAME:CEST
DTSTART:20220327T010000
END:DAYLIGHT
BEGIN:STANDARD
TZOFFSETFROM:+0200
TZOFFSETTO:+0100
TZNAME:CET
DTSTART:20221030T010000
END:STANDARD
BEGIN:DAYLIGHT
TZOFFSETFROM:+0100
TZOFFSETTO:+0200
TZNAME:CEST
DTSTART:20230326T010000
END:DAYLIGHT
BEGIN:STANDARD
TZOFFSETFROM:+0200
TZOFFSETTO:+0100
TZNAME:CET
DTSTART:20231029T010000
END:STANDARD
BEGIN:DAYLIGHT
TZOFFSETFROM:+0100
TZOFFSETTO:+0200
TZNAME:CEST
DTSTART:20240331T010000
END:DAYLIGHT
BEGIN:STANDARD
TZOFFSETFROM:+0200
TZOFFSETTO:+0100
TZNAME:CET
DTSTART:20241027T010000
END:STANDARD
BEGIN:DAYLIGHT
TZOFFSETFROM:+0100
TZOFFSETTO:+0200
TZNAME:CEST
DTSTART:20250330T010000
END:DAYLIGHT
BEGIN:STANDARD
TZOFFSETFROM:+0200
TZOFFSETTO:+0100
TZNAME:CET
DTSTART:20251026T010000
END:STANDARD
BEGIN:DAYLIGHT
TZOFFSETFROM:+0100
TZOFFSETTO:+0200
TZNAME:CEST
DTSTART:20260329T010000
END:DAYLIGHT
BEGIN:STANDARD
TZOFFSETFROM:+0200
TZOFFSETTO:+0100
TZNAME:CET
DTSTART:20261025T010000
END:STANDARD
BEGIN:DAYLIGHT
TZOFFSETFROM:+0100
TZOFFSETTO:+0200
TZNAME:CEST
DTSTART:20270328T010000
END:DAYLIGHT
BEGIN:STANDARD
TZOFFSETFROM:+0200
TZOFFSETTO:+0100
TZNAME:CET
DTSTART:20271031T010000
END:STANDARD
END:VTIMEZONE
BEGIN:VEVENT
DTSTART;VALUE=DATE:20260423
DTEND;VALUE=DATE:20260424
DTSTAMP:20260425T190703
CREATED:20260323T190351Z
LAST-MODIFIED:20260323T190351Z
UID:443-1776902400-1776988799@www.mscbernstein.de
SUMMARY:Aufbau Baden-Classic
DESCRIPTION:
URL:http://www.mscbernstein.de/event/aufbau-baden-classic/
END:VEVENT
BEGIN:VEVENT
DTSTART;VALUE=DATE:20260417
DTEND;VALUE=DATE:20260418
DTSTAMP:20260425T190703
CREATED:20260323T190312Z
LAST-MODIFIED:20260323T190312Z
UID:441-1776384000-1776470399@www.mscbernstein.de
SUMMARY:Helferabend Baden Classic
DESCRIPTION:
URL:http://www.mscbernstein.de/event/helferabend-baden-classic-2/
END:VEVENT
BEGIN:VEVENT
DTSTART;VALUE=DATE:20250425
DTEND;VALUE=DATE:20250427
DTSTAMP:20260425T190703
CREATED:20240514T163612Z
LAST-MODIFIED:20240514T163622Z
UID:437-1745539200-1745711999@www.mscbernstein.de
SUMMARY:Baden Classic 2025
DESCRIPTION:
URL:http://www.mscbernstein.de/event/baden-classic-2025/
END:VEVENT
BEGIN:VEVENT
DTSTART;TZID=Europe/Berlin:20241207T180000
DTEND;TZID=Europe/Berlin:20241207T233000
DTSTAMP:20260425T190703
CREATED:20240109T185523Z
LAST-MODIFIED:20240109T185523Z
UID:399-1733594400-1733614200@www.mscbernstein.de
SUMMARY:Clubabend Advent (Weihnachtsfeier)
DESCRIPTION:
URL:http://www.mscbernstein.de/event/clubabend-advent-weihnachtsfeier/
END:VEVENT
BEGIN:VEVENT
DTSTART;TZID=Europe/Berlin:20241108T183000
DTEND;TZID=Europe/Berlin:20241108T220000
DTSTAMP:20260425T190703
CREATED:20240109T185355Z
LAST-MODIFIED:20240514T172455Z
UID:397-1731090600-1731103200@www.mscbernstein.de
SUMMARY:Clubabend Kegeln
DESCRIPTION:
URL:http://www.mscbernstein.de/event/clubabend-kegeln-2/
LOCATION:Sportgaststätte Murgtalblick (XXL)\, Am Sportplatz\, Michelbach\, 76571
END:VEVENT
BEGIN:VEVENT
DTSTART;TZID=Europe/Berlin:20241011T183000
DTEND;TZID=Europe/Berlin:20241011T220000
DTSTAMP:20260425T190703
CREATED:20240109T185309Z
LAST-MODIFIED:20240219T111733Z
UID:395-1728671400-1728684000@www.mscbernstein.de
SUMMARY:Clubabend Tischfußball
DESCRIPTION:
URL:http://www.mscbernstein.de/event/clubabend-tischfussball-2/
END:VEVENT
BEGIN:VEVENT
DTSTART;TZID=Europe/Berlin:20240927T180000
DTEND;TZID=Europe/Berlin:20240927T220000
DTSTAMP:20260425T190703
CREATED:20240225T102938Z
LAST-MODIFIED:20240225T103007Z
UID:421-1727460000-1727474400@www.mscbernstein.de
SUMMARY:Clubabend Sim-Racing
DESCRIPTION:
URL:http://www.mscbernstein.de/event/sim-racing-2/
LOCATION:Motor-Sport-Club Puma e. V.\, Eichetstraße 39\, Kuppenheim\, 76456\, Deutschland
END:VEVENT
BEGIN:VEVENT
DTSTART;VALUE=DATE:20240906
DTEND;VALUE=DATE:20240909
DTSTAMP:20260425T190703
CREATED:20240109T185209Z
LAST-MODIFIED:20240219T111419Z
UID:393-1725580800-1725839999@www.mscbernstein.de
SUMMARY:Dorffest 2024
DESCRIPTION:
URL:http://www.mscbernstein.de/event/dorffest-2024/
END:VEVENT
BEGIN:VEVENT
DTSTART;TZID=Europe/Berlin:20240802T180000
DTEND;TZID=Europe/Berlin:20240802T233000
DTSTAMP:20260425T190703
CREATED:20240109T185117Z
LAST-MODIFIED:20240109T185117Z
UID:391-1722621600-1722641400@www.mscbernstein.de
SUMMARY:Grillabend
DESCRIPTION:
URL:http://www.mscbernstein.de/event/grillabend/
LOCATION:Bergacker (Jörg)
END:VEVENT
BEGIN:VEVENT
DTSTART;TZID=Europe/Berlin:20240727T073000
DTEND;TZID=Europe/Berlin:20240727T133000
DTSTAMP:20260425T190703
CREATED:20240109T185014Z
LAST-MODIFIED:20240219T111652Z
UID:389-1722065400-1722087000@www.mscbernstein.de
SUMMARY:Clubabend Kartfahren
DESCRIPTION:
URL:http://www.mscbernstein.de/event/clubabend-kartfahren/
LOCATION:Wiesentalhalle Michelbach\, Heilweg 5\, Gaggenau\, 76571\, Deutschland
END:VEVENT
BEGIN:VEVENT
DTSTART;TZID=Europe/Berlin:20240705T180000
DTEND;TZID=Europe/Berlin:20240705T223000
DTSTAMP:20260425T190703
CREATED:20240109T184848Z
LAST-MODIFIED:20240630T183136Z
UID:385-1720202400-1720218600@www.mscbernstein.de
SUMMARY:Clubabend Boccia
DESCRIPTION:
URL:http://www.mscbernstein.de/event/clubabend-boccia/
LOCATION:Werners Hütte
END:VEVENT
BEGIN:VEVENT
DTSTART;TZID=Europe/Berlin:20240622T143000
DTEND;TZID=Europe/Berlin:20240622T235900
DTSTAMP:20260425T190703
CREATED:20240109T184750Z
LAST-MODIFIED:20240225T102803Z
UID:383-1719066600-1719100740@www.mscbernstein.de
SUMMARY:Bildersuchfahrt
DESCRIPTION:
URL:http://www.mscbernstein.de/event/bildersuchfahrt-2/
LOCATION:Wiesentalhalle Michelbach\, Heilweg 5\, Gaggenau\, 76571\, Deutschland
END:VEVENT
BEGIN:VEVENT
DTSTART;VALUE=DATE:20240509
DTEND;VALUE=DATE:20240510
DTSTAMP:20260425T190703
CREATED:20240109T184654Z
LAST-MODIFIED:20240109T184703Z
UID:381-1715212800-1715299199@www.mscbernstein.de
SUMMARY:Vatertagswanderung
DESCRIPTION:
URL:http://www.mscbernstein.de/event/vatertagswanderung-2/
LOCATION:Brunnen (Michelbach)\, Bernsteinstraße 1\, Gaggenau\, 76571\, Deutschland
END:VEVENT
BEGIN:VEVENT
DTSTART;VALUE=DATE:20240501
DTEND;VALUE=DATE:20240502
DTSTAMP:20260425T190703
CREATED:20240109T184533Z
LAST-MODIFIED:20240109T184533Z
UID:377-1714521600-1714607999@www.mscbernstein.de
SUMMARY:Maiwanderung
DESCRIPTION:
URL:http://www.mscbernstein.de/event/maiwanderung-2/
LOCATION:Brunnen (Michelbach)\, Bernsteinstraße 1\, Gaggenau\, 76571\, Deutschland
END:VEVENT
BEGIN:VEVENT
DTSTART;VALUE=DATE:20240426
DTEND;VALUE=DATE:20240428
DTSTAMP:20260425T190703
CREATED:20240109T184049Z
LAST-MODIFIED:20240109T184049Z
UID:375-1714089600-1714262399@www.mscbernstein.de
SUMMARY:Baden Classic 2024
DESCRIPTION:
URL:http://www.mscbernstein.de/event/baden-classic-2024/
LOCATION:Wiesentalhalle Michelbach\, Heilweg 5\, Gaggenau\, 76571\, Deutschland
END:VEVENT
BEGIN:VEVENT
DTSTART;TZID=Europe/Berlin:20240419T180000
DTEND;TZID=Europe/Berlin:20240419T180000
DTSTAMP:20260425T190703
CREATED:20240109T183950Z
LAST-MODIFIED:20240415T170654Z
UID:373-1713549600-1713549600@www.mscbernstein.de
SUMMARY:Helferabend Baden-Classic 2024
DESCRIPTION:
URL:http://www.mscbernstein.de/event/helferabend-baden-classic-2024/
LOCATION:Sportgaststätte Murgtalblick (XXL)\, Am Sportplatz\, Michelbach\, 76571
END:VEVENT
BEGIN:VEVENT
DTSTART;TZID=Europe/Berlin:20240301T190000
DTEND;TZID=Europe/Berlin:20240301T190000
DTSTAMP:20260425T190703
CREATED:20240109T183905Z
LAST-MODIFIED:20240219T111458Z
UID:371-1709319600-1709319600@www.mscbernstein.de
SUMMARY:Clubabend Schießen
DESCRIPTION:
URL:http://www.mscbernstein.de/event/clubabend-schiessen-2/
LOCATION:Schützenhaus Bad Rotenfels\, Karlstraße 15\, Gaggenau\, 76571\, Deutschland
END:VEVENT
BEGIN:VEVENT
DTSTART;TZID=Europe/Berlin:20240224T183000
DTEND;TZID=Europe/Berlin:20240224T220000
DTSTAMP:20260425T190703
CREATED:20240219T111359Z
LAST-MODIFIED:20240219T111359Z
UID:419-1708799400-1708812000@www.mscbernstein.de
SUMMARY:Generalversammlung 2024
DESCRIPTION:
URL:http://www.mscbernstein.de/event/generalversammlung-2024/
LOCATION:Sportgaststätte Murgtalblick (XXL)\, Am Sportplatz\, Michelbach\, 76571
END:VEVENT
BEGIN:VEVENT
DTSTART;TZID=Europe/Berlin:20240210T180000
DTEND;TZID=Europe/Berlin:20240210T180000
DTSTAMP:20260425T190703
CREATED:20240109T183810Z
LAST-MODIFIED:20240109T183810Z
UID:369-1707588000-1707588000@www.mscbernstein.de
SUMMARY:Kappenabend
DESCRIPTION:
URL:http://www.mscbernstein.de/event/kappenabend-2/
LOCATION:Wiesentalhalle Michelbach\, Heilweg 5\, Gaggenau\, 76571\, Deutschland
END:VEVENT
BEGIN:VEVENT
DTSTART;VALUE=DATE:20240107
DTEND;VALUE=DATE:20240108
DTSTAMP:20260425T190703
CREATED:20240109T183708Z
LAST-MODIFIED:20240109T184128Z
UID:366-1704585600-1704671999@www.mscbernstein.de
SUMMARY:Winterwanderung
DESCRIPTION:
URL:http://www.mscbernstein.de/event/winterwanderung-2/
LOCATION:Brunnen (Michelbach)\, Bernsteinstraße 1\, Gaggenau\, 76571\, Deutschland
END:VEVENT
BEGIN:VEVENT
DTSTART;VALUE=DATE:20231202
DTEND;VALUE=DATE:20231203
DTSTAMP:20260425T190703
CREATED:20230305T000504Z
LAST-MODIFIED:20230305T000504Z
UID:332-1701475200-1701561599@www.mscbernstein.de
SUMMARY:Clubabend Advent
DESCRIPTION:Überraschungs Clubabend – Informationen folgen
URL:http://www.mscbernstein.de/event/clubabend-advent/
END:VEVENT
BEGIN:VEVENT
DTSTART;TZID=Europe/Berlin:20231103T190000
DTEND;TZID=Europe/Berlin:20231103T233000
DTSTAMP:20260425T190703
CREATED:20230305T000351Z
LAST-MODIFIED:20230305T000351Z
UID:330-1699038000-1699054200@www.mscbernstein.de
SUMMARY:Clubabend Kegeln
DESCRIPTION:Kegelabend im Rahmen der Clubmeisterschaft
URL:http://www.mscbernstein.de/event/clubabend-kegeln/
LOCATION:Schmausers Spoga Ottenau\, Mozartstraße 9\, Gaggenau\, 76571\, Deutschland
END:VEVENT
BEGIN:VEVENT
DTSTART;TZID=Europe/Berlin:20231006T183000
DTEND;TZID=Europe/Berlin:20231006T220000
DTSTAMP:20260425T190703
CREATED:20230305T000243Z
LAST-MODIFIED:20230311T192447Z
UID:328-1696617000-1696629600@www.mscbernstein.de
SUMMARY:Clubabend Tischfußball
DESCRIPTION:Tischfußballturnier im Rahmen der Clubmeisterschaft
URL:http://www.mscbernstein.de/event/clubabend-tischfussball/
END:VEVENT
BEGIN:VEVENT
DTSTART;VALUE=DATE:20230825
DTEND;VALUE=DATE:20230828
DTSTAMP:20260425T190703
CREATED:20230305T000135Z
LAST-MODIFIED:20230305T000135Z
UID:325-1692921600-1693180799@www.mscbernstein.de
SUMMARY:Hüttenwochenende Besenfeld
DESCRIPTION:Anmeldungen für das HüWo liegen wieder ab der GV aus
URL:http://www.mscbernstein.de/event/huettenwochenende-besenfeld/
LOCATION:Naturfreundehaus Urnagold\, Glashäuserstraße 2\, Seewald\, 72297\, Deutschland
END:VEVENT
BEGIN:VEVENT
DTSTART;TZID=Europe/Berlin:20230804T180000
DTEND;TZID=Europe/Berlin:20230804T233000
DTSTAMP:20260425T190703
CREATED:20230304T235851Z
LAST-MODIFIED:20230304T235851Z
UID:322-1691172000-1691191800@www.mscbernstein.de
SUMMARY:Grillabend (Jörg)
DESCRIPTION:Grillabend bei Jörgs Hütte
URL:http://www.mscbernstein.de/event/grillabend-joerg/
LOCATION:Bergacker (Jörg)
END:VEVENT
BEGIN:VEVENT
DTSTART;TZID=Europe/Berlin:20230729T080000
DTEND;TZID=Europe/Berlin:20230729T133000
DTSTAMP:20260425T190703
CREATED:20230304T235659Z
LAST-MODIFIED:20230304T235709Z
UID:320-1690617600-1690637400@www.mscbernstein.de
SUMMARY:Ferienspaß Kart und Clubmeisterschaft
DESCRIPTION:Zu erst wird der Ferienspaß Gaggenau unterstützt und im Anschluss findet die Clubmeisterschaft im Kart fahren statt
URL:http://www.mscbernstein.de/event/ferienspass-kart-und-clubmeisterschaft/
LOCATION:Wiesentalhalle Michelbach\, Heilweg 5\, Gaggenau\, 76571\, Deutschland
END:VEVENT
BEGIN:VEVENT
DTSTART;TZID=Europe/Berlin:20230707T143000
DTEND;TZID=Europe/Berlin:20230707T233000
DTSTAMP:20260425T190703
CREATED:20230304T235507Z
LAST-MODIFIED:20230304T235507Z
UID:317-1688740200-1688772600@www.mscbernstein.de
SUMMARY:Boccia Turnier
DESCRIPTION:Boccia Turnier an Werners Hütte mit anschließendem Grillabend
URL:http://www.mscbernstein.de/event/boccia-turnier/
LOCATION:Werners Hütte
END:VEVENT
BEGIN:VEVENT
DTSTART;VALUE=DATE:20230518
DTEND;VALUE=DATE:20230519
DTSTAMP:20260425T190703
CREATED:20230304T235058Z
LAST-MODIFIED:20230304T235058Z
UID:312-1684368000-1684454399@www.mscbernstein.de
SUMMARY:Vatertagswanderung
DESCRIPTION:Wanderung am Vatertag
URL:http://www.mscbernstein.de/event/vatertagswanderung/
END:VEVENT
BEGIN:VEVENT
DTSTART;TZID=Europe/Berlin:20230512T180000
DTEND;TZID=Europe/Berlin:20230512T180000
DTSTAMP:20260425T190703
CREATED:20230304T225836Z
LAST-MODIFIED:20230304T232511Z
UID:287-1683914400-1683914400@www.mscbernstein.de
SUMMARY:Sim Racing
DESCRIPTION:Clubabend beim MSC Puma im Kuppenheim in der Sim Racing Abteilung (Virtuelles fahren)
URL:http://www.mscbernstein.de/event/sim-racing/
LOCATION:Motor-Sport-Club Puma e. V.\, Eichetstraße 39\, Kuppenheim\, 76456\, Deutschland
END:VEVENT
BEGIN:VEVENT
DTSTART;VALUE=DATE:20230501
DTEND;VALUE=DATE:20230502
DTSTAMP:20260425T190703
CREATED:20230304T234950Z
LAST-MODIFIED:20230304T234950Z
UID:310-1682899200-1682985599@www.mscbernstein.de
SUMMARY:Maiwanderung
DESCRIPTION:Traditionell geht es am 01. Mai auf Tour
URL:http://www.mscbernstein.de/event/maiwanderung/
END:VEVENT
END:VCALENDAR